8.000000000
0.000000
0.000000
-8.000000000
524909.22254461
157356.20928530
