8.000000000
0.000000
0.000000
-8.000000000
524907.51525421
157355.92120667
