8.000000000
0.000000
0.000000
-8.000000000
525163.62092265
157576.38811135
