8.000000000
0.000000
0.000000
-8.000000000
525161.35332006
157582.59149386
