8.000000000
0.000000
0.000000
-8.000000000
525163.13895166
157589.36345058
