8.000000000
0.000000
0.000000
-8.000000000
525151.84967399
157589.19119952
