8.000000000
0.000000
0.000000
-8.000000000
526054.83395383
157714.82394023
