8.000000000
0.000000
0.000000
-8.000000000
526053.25594053
157725.34190776
