8.000000000
0.000000
0.000000
-8.000000000
526211.96924160
157712.33090085
