8.000000000
0.000000
0.000000
-8.000000000
526211.11015750
157711.72354849
