8.000000000
0.000000
0.000000
-8.000000000
526213.63587570
157709.22305755
