8.000000000
0.000000
0.000000
-8.000000000
526260.68703647
157743.86518863
