8.000000000
0.000000
0.000000
-8.000000000
526206.09244880
157737.41355439
