8.000000000
0.000000
0.000000
-8.000000000
526600.33992865
157706.47782308
