8.000000000
0.000000
0.000000
-8.000000000
526612.31529739
157710.65898416
