8.000000000
0.000000
0.000000
-8.000000000
526612.51724569
157709.73019845
