8.000000000
0.000000
0.000000
-8.000000000
526678.96416650
157674.04866546
