8.000000000
0.000000
0.000000
-8.000000000
526609.00665821
157736.94596889
