8.000000000
0.000000
0.000000
-8.000000000
522105.63516766
157036.68504049
