8.000000000
0.000000
0.000000
-8.000000000
522106.92844732
157037.90394845
