8.000000000
0.000000
0.000000
-8.000000000
522131.87214443
157056.73538512
