8.000000000
0.000000
0.000000
-8.000000000
522131.42291246
157054.88824574
