8.000000000
0.000000
0.000000
-8.000000000
526502.90491364
157320.40259653
