8.000000000
0.000000
0.000000
-8.000000000
526517.17217398
157320.23320713
