8.000000000
0.000000
0.000000
-8.000000000
527155.48090169
157811.08684244
