8.000000000
0.000000
0.000000
-8.000000000
527160.16671904
157829.25071908
