8.000000000
0.000000
0.000000
-8.000000000
527157.36377647
157844.41474882
