8.000000000
0.000000
0.000000
-8.000000000
527154.36828111
157843.21481086
