8.000000000
0.000000
0.000000
-8.000000000
527339.49959994
157940.16282146
