8.000000000
0.000000
0.000000
-8.000000000
527336.49693981
157938.34528491
