8.000000000
0.000000
0.000000
-8.000000000
527324.98556085
157955.46424537
