8.000000000
0.000000
0.000000
-8.000000000
527334.53443110
157952.57297743
