8.000000000
0.000000
0.000000
-8.000000000
527332.19228831
157952.60047089
