8.000000000
0.000000
0.000000
-8.000000000
527336.64915513
157951.31296681
