8.000000000
0.000000
0.000000
-8.000000000
527431.31688109
157961.31917397
