8.000000000
0.000000
0.000000
-8.000000000
527425.26224092
157989.79946242
