8.000000000
0.000000
0.000000
-8.000000000
527531.96085788
157990.71108629
