8.000000000
0.000000
0.000000
-8.000000000
527530.99384160
157999.05991991
