8.000000000
0.000000
0.000000
-8.000000000
527500.69405320
157993.85634862
