8.000000000
0.000000
0.000000
-8.000000000
527501.13435790
157995.08637941
