8.000000000
0.000000
0.000000
-8.000000000
527689.29458815
158024.07418926
