8.000000000
0.000000
0.000000
-8.000000000
527695.79396174
158033.57097700
