8.000000000
0.000000
0.000000
-8.000000000
494555.18969417
151159.12764650
