8.000000000
0.000000
0.000000
-8.000000000
494524.10310002
151211.54032875
