8.000000000
0.000000
0.000000
-8.000000000
494526.95677118
151228.78514698
