8.000000000
0.000000
0.000000
-8.000000000
494576.38752629
151164.32379648
