8.000000000
0.000000
0.000000
-8.000000000
494581.19517361
151158.68291948
