8.000000000
0.000000
0.000000
-8.000000000
494576.96893414
151160.91689041
