8.000000000
0.000000
0.000000
-8.000000000
494563.32278956
151185.85544734
