8.000000000
0.000000
0.000000
-8.000000000
494548.98113370
151195.05637127
